BEGIN:VCALENDAR
VERSION:2.0
PRODID:-//A WOD Life NZ - ECPv4.5.12.2//NONSGML v1.0//EN
CALSCALE:GREGORIAN
METHOD:PUBLISH
X-WR-CALNAME:A WOD Life NZ
X-ORIGINAL-URL:http://www.awodlife.nz
X-WR-CALDESC:Events for A WOD Life NZ
BEGIN:VEVENT
DTSTART;VALUE=DATE:20160220
DTEND;VALUE=DATE:20160220
DTSTAMP:20180125T104615
CREATED:20160207T092106Z
LAST-MODIFIED:20160606T092504Z
UID:214-1455879600-1455965999@www.awodlife.nz
SUMMARY:Metcon Madness 2016
DESCRIPTION:Sooooooo\, you like CrossFit!\nEver trained out in the beautiful sunshine?\nA sun&#8217;s out\, guns out WOD? \nBring your A game to METCON MADNESS competition brought to you by Remuera Crossfit.  \nA competition like no other set in the beautiful back drop of NZ&#8217;s first artificial playing surface and one of Auckland&#8217;s iconic Rugby Clubs\, College Rifles Sports Complex. Like the name suggests METCON MADNESS looks to test your CrossFit abilities unlike any competition in NZ. \nNeed To Know Info\n\nMETCON MADNESS is a Competition for CrossFit affiliates to participate in\, taken outdoors in the sun! \n4 WODs over the 1 epic day. \nTeams consist of 2 males/2 females \nWODS that will test your endurance abilities and overall CrossFit skills like no other competition. \nHeld on NZs first artificial field surface\, be ready combine all of your lifting and gymnastics experience\, with high levels of Metcon madness! (did we say sprinting?) \nSpectators will have a great day with multiple viewing areas and &#8216;spectator WODS&#8217; during the athletes lunchbreak. \nHoping for a call up? \nWe have some special events that the spectators can join into and compete against the best! \n\nREGISTRATION OPENS &#8211; NOVEMBER 13TH 2015 \nWOD RELEASE \nWOD 1 &#8211; November 13th 2015\nWOD 2 &#8211; January 13th 2016\nWOD 3 &#8211; February 2nd 2016\nWOD 4 &#8211; February 15th 2016 \n\nMetcon Madness \n
URL:http://www.awodlife.nz/event/metcon-madness-2016/
LOCATION:33 Haast Street\, Remuera\, Auckland\, 1050\, New Zealand
CATEGORIES:Team
ATTACH;FMTTYPE=image/png:http://www.awodlife.nz/wp-content/uploads/2016/02/Screenshot-2016-02-07-09.05.44.png
ORGANIZER;CN="Remuera%20CrossFit":MAILTO:info@remueracrossfit.co.nz
END:VEVENT
END:VCALENDAR