BEGIN:VCALENDAR
VERSION:2.0
PRODID:-//A WOD Life NZ - ECPv4.5.12.2//NONSGML v1.0//EN
CALSCALE:GREGORIAN
METHOD:PUBLISH
X-WR-CALNAME:A WOD Life NZ
X-ORIGINAL-URL:http://www.awodlife.nz
X-WR-CALDESC:Events for A WOD Life NZ
BEGIN:VEVENT
DTSTART;TZID=Pacific/Auckland:20170204T070000
DTEND;TZID=Pacific/Auckland:20170204T173000
DTSTAMP:20180125T104119
CREATED:20161113T121613Z
LAST-MODIFIED:20161113T121712Z
UID:335-1486144800-1486182600@www.awodlife.nz
SUMMARY:Htown Throwdown 2017
DESCRIPTION:\n\n\n\n\n\n\nThe 2nd Annual Htown Throwdown is the perfect competition to test your fitness whether you are a seasoned competitor or a newbie. If you can do a push up from your knees than you can enter this competition. \n\n\n\n\n\n\n\n\n\n\n\n\n\n\nThis is a 1 Day event held on the 4th of February 2016 with the first Wod kicking off at 7am running through to prize giving at 5:30pm with competition held at CrossFit Kotahi (Home of Tribal Wars). \nThere are 6 Categories to register for including\nBeginners (Limit 20)\, Intermediate (Limit 20)\, RX (Limit 20)\, Teens Ages 15 &#8211; 17 (Limit 10) Masters 35 &#8211; 45 (Limit 10)\, Masters 45+ (Limit 10) with both Male and Female divisions. Prizes given to event winners and Major Prizes to overall category winners and prizes to top placings. \nThe day will test broad fitness including traditional crossfit movements with each competitor doing between 4-5 wods in the day and top competitors going through to the finals for each category. \nCost is $85 per entrant (early bird price\, will increase to $95 1st Jan 2017) and includes competition Muscle Tee. Register before 30th of Nov and get a free XtremeFit Speed Rope (Value $25) \nRegistrations open at 9am on the 9th of November with a limited number of spaces per category. \nThinking about giving it a go see past events feedback here \n\n\n\n\n\n\n\n\n\n\n\n\n\n\n\n\nCrossFit Kotahi\n100 Duke St\nHamilton\, NZ\nPh 021905259\nEmail\ninfo(Replace this parenthesis with the @ sign)crossfitkotahi.com \n\n\n\n\n\n\n\n\n\n
URL:http://www.awodlife.nz/event/htown-throwdown-2017/
LOCATION:100 Duke Street\, Hamilton\, Waikato\, 3204\, New Zealand
CATEGORIES:Beginners,Individual,Intermediate,Masters,Rx,Teens
ATTACH;FMTTYPE=image/png:http://www.awodlife.nz/wp-content/uploads/2016/11/Screenshot-2016-11-13-12.14.54.png
ORGANIZER;CN="CrossFit%20Kotahi":MAILTO:info@crossfitkotahi.com
END:VEVENT
END:VCALENDAR