BEGIN:VCALENDAR
VERSION:2.0
PRODID:-//A WOD Life NZ - ECPv4.5.12.2//NONSGML v1.0//EN
CALSCALE:GREGORIAN
METHOD:PUBLISH
X-WR-CALNAME:A WOD Life NZ
X-ORIGINAL-URL:http://www.awodlife.nz
X-WR-CALDESC:Events for A WOD Life NZ
BEGIN:VEVENT
DTSTART;TZID=Pacific/Auckland:20160213T070000
DTEND;TZID=Pacific/Auckland:20160213T170000
DTSTAMP:20180125T104546
CREATED:20151213T143318Z
LAST-MODIFIED:20160606T092504Z
UID:183-1455300000-1455336000@www.awodlife.nz
SUMMARY:Auckland 3's
DESCRIPTION:Good morning affiliate owners and managers\, \nWe understand some of you prefer that your athletes arrange their own competition teams\, so feel free to forward this on to your athletes. Affiliates are invited to enter 1 team per division on a first in first served basis: \nScaled men x 1 team\nScaled female x 1 team\nRX men x 1 team\nRX female x 1 team \nAndfit CrossFit’s Auckland 3’s 2016 – Saturday 13 February \nThe Auckland 3’s is a one day\, same gender team competition. This competition will require teams to work together but will also have events that will allow athletes to play to their strengths. Workouts will be fast paced and exciting to watch. \nLike last year only Auckland affiliates will be invited. There will only be 18 teams in each division\, so you’ll have to act swiftly after reading this email: \n18 Scaled female teams\n18 Scaled male teams\n18 RX female teams\n18 RX male teams \nTeams can be made up from mixed affiliates so feel free to create some super teams! Your team can include 1 athlete from outside Auckland this year if you choose to pull some athletes in. Teams will have to be registered under 1 Auckland affiliate name. \nHow to register: \nSimply email Wykie at wykie(Replace this parenthesis with the @ sign)andfit.co.nz with the following information: \nAffiliate name:\nDivision: \nThe first 18 entries per division will have their spots reserved until payment is received. You’ll have 1 week to make payment before the next team in line gets your spot. Once full\, the additional entrants will go on a waiting list and will be contacted as soon as a spot becomes available. If your entry is one of the first 18 in the division we’ll reply with confirmation and a bank account number for you to make payment to. If your email comes in after the initial 18 we’ll reply to let you know where on the waiting list you are. Team entry is $240. \nWhat is RX? What is scaled? \nThe definition of a RX and Scaled athlete seems to differ significantly from competition to competition these days. It is important that you check the division guidelines (ask Wykie for a copy) for a Scaled and RX athlete before entering a team. \nWe look forward to hosting you and your athletes! If you miss out this year\, we hope to include you next year as we grow. \n
URL:http://www.awodlife.nz/event/auckland-3s/
LOCATION:8 Shaddock St\, Eden Terrace\, Auckland\, 1021
CATEGORIES:3's,Team
ATTACH;FMTTYPE=image/jpeg:http://www.awodlife.nz/wp-content/uploads/2015/12/Andfit-3s.jpg
ORGANIZER;CN="Andfit":MAILTO:wykie@andfit.co.nz
END:VEVENT
END:VCALENDAR